BEGIN:VCALENDAR
VERSION:2.0
PRODID:icalendar-ruby
CALSCALE:GREGORIAN
METHOD:PUBLISH
BEGIN:VEVENT
DTSTAMP:20260423T005620Z
UID:6-407444@wellofwisdomministries.com
DTSTART:20260427T070000Z
DTEND:20260427T073000Z
CLASS:PUBLIC
CREATED:20260422T082559
DESCRIPTION:JOIN US FOR PRAYER \n\nMonday – 6:00 AM South Africa\nSunday 
 12:00 AM New York\n\nFriday – 7:00 PM South Africa\nFriday 1:00 PM New Y
 ork\n\n“Call to Me and I will answer you…”\nJeremiah 33:3 
LAST-MODIFIED:20260422T082559
LOCATION:
SUMMARY:Prayer Days
URL;VALUE=URI:https://wellofwisdomministries.com/events/prayer-days/2026-04
 -27
ATTACH;FILENAME=wellof.jpg;FMTTYPE=image/jpeg:https://dq5pwpg1q8ru0.cloudfr
 ont.net/2026/04/22/14/55/40/c0678c9a-2a75-43b2-a02c-9e82455ff41e/wellof.jp
 g
END:VEVENT
END:VCALENDAR
