BEGIN:VCALENDAR
VERSION:2.0
PRODID:icalendar-ruby
CALSCALE:GREGORIAN
METHOD:PUBLISH
BEGIN:VEVENT
DTSTAMP:20260423T051338Z
UID:5-407389@wellofwisdomministries.com
DTSTART:20260510T170000Z
DTEND:20260510T180000Z
CLASS:PUBLIC
CREATED:20260421T164239
DESCRIPTION:Sunday Worship
LAST-MODIFIED:20260421T164239
LOCATION:
SUMMARY:Sunday Worship
URL;VALUE=URI:https://wellofwisdomministries.com/events/sunday-worship/2026
 -05-10
END:VEVENT
END:VCALENDAR
